Workbook

Sheet Lista de Siglas
A1: Sigla | B1: Significado da Sigla
A2: SEI | B2: Sistema Eletrônico de Informação
A3: UFC | B3: Universidade Federal do Ceará
A4: TAE | B4: Técnico Administrativo em Educação
A5: PROGEP | B5: Pró-Reitoria de Gestão de Pessoas
A6: CEPE | B6: Conselho de Ensino, Pesquisa e Extensão
A7: CODEC | B7: Coordenadoria de Desenvolvimento e Carreira
A8: DIJOR | B8: Divisão de Jornada de Trabalho
A9: SIGPRH | B9: Sistema Integrado de Planejamento, Gestão e Recursos Humanos

Sheet ETAPA 1. FIXAÇÃO DE OBJETIVOS
A1: Planilha de Gerenciamento de Riscos de Integridade - SECGOV
A2: Unidade: | B2: Campus da UFC em Russas
A3: Setor: | B3: Secretaria Executiva
A4: Responsável pelo gerenciamento: | B4: Secretaria Executiva
A5: Processos
A6: Processo (indicar) | B6: Objetivos do Processo (Geral e específicos) (descrever)
A7: Horário especial para servidor estudante | B7: Conceder horário especial para servidor estudante. Garantir a excelência na gestão de pessoas.

Sheet ETAPA 2. IDENTIFICAÇÃO DE EVENT
A1: Identificação dos Riscos
A2: Processo | B2: Fase | C2: Evento de Risco (indicar) | D2: Tipo de Risco | E2: Categoria | F2: Tipo de Risco de Integridade | G2: Causas (descrever) | H2: Consequências (descrever)
A3: ='ETAPA 1. FIXAÇÃO DE OBJETIVOS'!A$7 -> Horário especial para servidor estudante | B3: Final | C3: Concessão de horário especial em desacordo com os requisitos legais e normativos aplicáveis. | D3: Ameaça | E3: Operacionais | F3: Não se aplica | G3: Desconhecimento da resolução nº 21/CEPE, de 23 de dezembro de 2016. | H3: Necessidade de retrabalho, devolução do processo para correção e atraso na concessão do horário especial.
A4: ='ETAPA 1. FIXAÇÃO DE OBJETIVOS'!A$7 -> Horário especial para servidor estudante | B4: Intermediária | C4: Tramitação do processo de concessão de horário especial fora do prazo necessário à análise e decisão. | D4: Ameaça | E4: Operacionais | F4: Não se aplica | G4: Desconhecimento do fluxo de tramitação do processo. | H4: Comprometimento do prazo para análise e decisão e possível atraso na concessão do horário especial
A5: ='ETAPA 1. FIXAÇÃO DE OBJETIVOS'!A$7 -> Horário especial para servidor estudante | B5: Intermediária | C5: Atraso na análise e emissão de parecer necessário à decisão do processo. | D5: Ameaça | E5: Operacionais | F5: Não se aplica | G5: Relator com pouco conhecimento sobre a resolução nº 21/CEPE, de 23 de dezembro de 2016. | H5: Prolongamento do prazo de tramitação e atraso na conclusão do processo.
A6: ='ETAPA 1. FIXAÇÃO DE OBJETIVOS'!A$7 -> Horário especial para servidor estudante | B6: Intermediária | C6: Não apreciação do processo pelo Conselho do Campus no prazo necessário à concessão do horário especial. | D6: Ameaça | E6: Operacionais | F6: Não se aplica | G6: Comunicação intempestiva do interessado à Secretaria Executiva sobre a abertura do processo. | H6: Atraso na concessão do horário especial e comprometimento da tempestividade da decisão administrativa.
A7: ='ETAPA 1. FIXAÇÃO DE OBJETIVOS'!A$7 -> Horário especial para servidor estudante | J7: Abuso de posição ou poder em favor de interesses privados
A8: ='ETAPA 1. FIXAÇÃO DE OBJETIVOS'!A$7 -> Horário especial para servidor estudante | J8: Nepotismo
A9: ='ETAPA 1. FIXAÇÃO DE OBJETIVOS'!A$7 -> Horário especial para servidor estudante | J9: Conflito de Interesses
A10: ='ETAPA 1. FIXAÇÃO DE OBJETIVOS'!A$7 -> Horário especial para servidor estudante | J10: Pressão Interna ou Externa Ilegal ou Antiética para influenciar agente público
A11: ='ETAPA 1. FIXAÇÃO DE OBJETIVOS'!A$7 -> Horário especial para servidor estudante | J11: Solicitação ou recebimento de vantagem indevida
A12: ='ETAPA 1. FIXAÇÃO DE OBJETIVOS'!A$7 -> Horário especial para servidor estudante | J12: Utilização de recursos em favor de interesses privados
A13: ='ETAPA 1. FIXAÇÃO DE OBJETIVOS'!A$7 -> Horário especial para servidor estudante
A14: ='ETAPA 1. FIXAÇÃO DE OBJETIVOS'!A$7 -> Horário especial para servidor estudante
A15: ='ETAPA 1. FIXAÇÃO DE OBJETIVOS'!A$7 -> Horário especial para servidor estudante
A16: ='ETAPA 1. FIXAÇÃO DE OBJETIVOS'!A$7 -> Horário especial para servidor estudante
A17: ='ETAPA 1. FIXAÇÃO DE OBJETIVOS'!A$7 -> Horário especial para servidor estudante
A18: ='ETAPA 1. FIXAÇÃO DE OBJETIVOS'!A$7 -> Horário especial para servidor estudante
A19: ='ETAPA 1. FIXAÇÃO DE OBJETIVOS'!A$7 -> Horário especial para servidor estudante
A20: ='ETAPA 1. FIXAÇÃO DE OBJETIVOS'!A$7 -> Horário especial para servidor estudante
A21: ='ETAPA 1. FIXAÇÃO DE OBJETIVOS'!A$7 -> Horário especial para servidor estudante
A22: ='ETAPA 1. FIXAÇÃO DE OBJETIVOS'!A$7 -> Horário especial para servidor estudante
A23: ='ETAPA 1. FIXAÇÃO DE OBJETIVOS'!A$7 -> Horário especial para servidor estudante
A24: ='ETAPA 1. FIXAÇÃO DE OBJETIVOS'!A$7 -> Horário especial para servidor estudante
... A42: ='ETAPA 1. FIXAÇÃO DE OBJETIVOS'!A$7 -> Horário especial para servidor estudante

Sheet ETAPA 3. AVALIAÇÃO DE RISCOS
A1: Avaliação dos Riscos | H1: Avaliação dos Controles | M1: Risco Residual
A2: Evento de Risco | B2: Probabilidade | C2: P | D2: Impacto | E2: I | F2: Risco Inerente (PxI) | G2: Classificação do Risco Inerente | H2: Controles Preventivos (descrever) | I2: Controles de atenuação e recuperação (descrever) | J2: Avaliação dos Controles | K2: FAC | L2: Risco Residual | M2: Classificação do Risco Residual | N2: Data da Última Avaliação
A3: ='ETAPA 2. IDENTIFICAÇÃO DE EVENT'!C3 -> Concessão de horário especial em desacordo com os requisitos legais e normativos aplicáveis. | B3: Baixa | C3: =IF(B3 = "Muito alta", 10, IF(B3 = "Alta", 8, IF(B3 = "Média", 5, IF(B3 = "Baixa", 2, IF(B3 = "Muito baixa", 1,0))))) -> 2 | D3: Alto | E3: =IF(D3 = "Muito alto", 10, IF(D3 = "Alto", 8, IF(D3 = "Médio", 5, IF(D3 = "Baixo", 2, IF(D3 = "Muito baixo", 1,0))))) -> 8 | F3: =C3*E3 -> 16 | G3: =IF(F3=0,"",IF(F3<10, "Risco Baixo", IF(F3<40, "Risco Médio", IF(F3<80, "Risco Alto", "Risco Extremo")))) -> Risco Médio | H3: Disponibilizar checklist obrigatório contendo a relação completa da documentação exigida para a abertura do processo, de modo a padronizar a instrução processual e permitir a conferência prévia dos documentos por servidor da Secretaria Executiva do Campus. | I3: Devolução formal do processo com indicação objetiva das pendências identificadas; | J3: Mediano | K3: =IF(J3 = "Inexistente", 1, IF(J3 = "Fraco", 0.8, IF(J3 = "Mediano", 0.6, IF(J3 = "Satisfatório", 0.4, IF(J3 = "Forte", 0.2,0))))) -> 0.6 | L3: =K3*F3 -> 9.6 | M3: =IF(L3=0,"",IF(L3<10, "Risco Baixo", IF(L3<40, "Risco Médio", IF(L3<80, "Risco Alto", "Risco Extremo")))) -> Risco Baixo | N3: 46287
A4: ='ETAPA 2. IDENTIFICAÇÃO DE EVENT'!C4 -> Tramitação do processo de concessão de horário especial fora do prazo necessário à análise e decisão. | B4: Baixa | C4: =IF(B4 = "Muito alta", 10, IF(B4 = "Alta", 8, IF(B4 = "Média", 5, IF(B4 = "Baixa", 2, IF(B4 = "Muito baixa", 1,0))))) -> 2 | D4: Alto | E4: =IF(D4 = "Muito alto", 10, IF(D4 = "Alto", 8, IF(D4 = "Médio", 5, IF(D4 = "Baixo", 2, IF(D4 = "Muito baixo", 1,0))))) -> 8 | F4: =C4*E4 -> 16 | G4: =IF(F4=0,"",IF(F4<10, "Risco Baixo", IF(F4<40, "Risco Médio", IF(F4<80, "Risco Alto", "Risco Extremo")))) -> Risco Médio | H4: Envio pela Secretaria Executiva do Campus de documento contendo instruções quanto ao fluxo e os prazos de tramitação para os interessados, por ocasião do recebimento de um novo processo. | I4: Monitoramento periódico dos processos cadastrados no SEI para identificação de processos não comunicados; | J4: Mediano | K4: =IF(J4 = "Inexistente", 1, IF(J4 = "Fraco", 0.8, IF(J4 = "Mediano", 0.6, IF(J4 = "Satisfatório", 0.4, IF(J4 = "Forte", 0.2,0))))) -> 0.6 | L4: =K4*F4 -> 9.6 | M4: =IF(L4=0,"",IF(L4<10, "Risco Baixo", IF(L4<40, "Risco Médio", IF(L4<80, "Risco Alto", "Risco Extremo")))) -> Risco Baixo | N4: 46287
A5: ='ETAPA 2. IDENTIFICAÇÃO DE EVENT'!C5 -> Atraso na análise e emissão de parecer necessário à decisão do processo. | B5: Muito baixa | C5: =IF(B5 = "Muito alta", 10, IF(B5 = "Alta", 8, IF(B5 = "Média", 5, IF(B5 = "Baixa", 2, IF(B5 = "Muito baixa", 1,0))))) -> 1 | D5: Alto | E5: =IF(D5 = "Muito alto", 10, IF(D5 = "Alto", 8, IF(D5 = "Médio", 5, IF(D5 = "Baixo", 2, IF(D5 = "Muito baixo", 1,0))))) -> 8 | F5: =C5*E5 -> 8 | G5: =IF(F5=0,"",IF(F5<10, "Risco Baixo", IF(F5<40, "Risco Médio", IF(F5<80, "Risco Alto", "Risco Extremo")))) -> Risco Baixo | H5: Controle de prazos, registro da data de recebimento e do prazo para manifestação por meio de planilha e acompanhamento periódico dos processos pendentes com emissão de e-mail de alerta ao relator antes do vencimento. | I5: Acionamento por e-mail do relator, em caso de atraso, e comunicação à secretaria do conselho para inclusão do processo em pauta de reunião extraordinária quando necessário, com registro das providências adotadas. | J5: Mediano | K5: =IF(J5 = "Inexistente", 1, IF(J5 = "Fraco", 0.8, IF(J5 = "Mediano", 0.6, IF(J5 = "Satisfatório", 0.4, IF(J5 = "Forte", 0.2,0))))) -> 0.6 | L5: =K5*F5 -> 4.8 | M5: =IF(L5=0,"",IF(L5<10, "Risco Baixo", IF(L5<40, "Risco Médio", IF(L5<80, "Risco Alto", "Risco Extremo")))) -> Risco Baixo | N5: 46287
A6: ='ETAPA 2. IDENTIFICAÇÃO DE EVENT'!C6 -> Não apreciação do processo pelo Conselho do Campus no prazo necessário à concessão do horário especial. | B6: Baixa | C6: =IF(B6 = "Muito alta", 10, IF(B6 = "Alta", 8, IF(B6 = "Média", 5, IF(B6 = "Baixa", 2, IF(B6 = "Muito baixa", 1,0))))) -> 2 | D6: Alto | E6: =IF(D6 = "Muito alto", 10, IF(D6 = "Alto", 8, IF(D6 = "Médio", 5, IF(D6 = "Baixo", 2, IF(D6 = "Muito baixo", 1,0))))) -> 8 | F6: =C6*E6 -> 16 | G6: =IF(F6=0,"",IF(F6<10, "Risco Baixo", IF(F6<40, "Risco Médio", IF(F6<80, "Risco Alto", "Risco Extremo")))) -> Risco Médio | H6: Definição de calendário formal de reuniões e de prazo mínimo para recebimento dos processos e posterior conferência da tempestividade pela secretaria do conselho e registro dos processos aptos para inclusão em pauta. | I6: Monitoramento usando registro em planilha dos processos não pautados com identificação dos motivos do atraso, e com comunicação aos responsáveis e utilização de reunião extraordinária quando necessário. | J6: Mediano | K6: =IF(J6 = "Inexistente", 1, IF(J6 = "Fraco", 0.8, IF(J6 = "Mediano", 0.6, IF(J6 = "Satisfatório", 0.4, IF(J6 = "Forte", 0.2,0))))) -> 0.6 | L6: =K6*F6 -> 9.6 | M6: =IF(L6=0,"",IF(L6<10, "Risco Baixo", IF(L6<40, "Risco Médio", IF(L6<80, "Risco Alto", "Risco Extremo")))) -> Risco Baixo | N6: 46287
A7: ='ETAPA 2. IDENTIFICAÇÃO DE EVENT'!C7 | E7: =IF(D7 = "Muito alto", 10, IF(D7 = "Alto", 8, IF(D7 = "Médio", 5, IF(D7 = "Baixo", 2, IF(D7 = "Muito baixo", 1,0))))) -> 0 | F7: =C7*E7 -> 0 | G7: =IF(F7=0,"",IF(F7<10, "Risco Baixo", IF(F7<40, "Risco Médio", IF(F7<80, "Risco Alto", "Risco Extremo")))) | K7: =IF(J7 = "Inexistente", 1, IF(J7 = "Fraco", 0.8, IF(J7 = "Mediano", 0.6, IF(J7 = "Satisfatório", 0.4, IF(J7 = "Forte", 0.2,0))))) -> 0 | L7: =K7*F7 -> 0 | M7: =IF(L7=0,"",IF(L7<10, "Risco Baixo", IF(L7<40, "Risco Médio", IF(L7<80, "Risco Alto", "Risco Extremo"))))
A8: ='ETAPA 2. IDENTIFICAÇÃO DE EVENT'!C8 | C8: =IF(B8 = "Muito alta", 10, IF(B8 = "Alta", 8, IF(B8 = "Média", 5, IF(B8 = "Baixa", 2, IF(B8 = "Muito baixa", 1,0))))) -> 0 | E8: =IF(D8 = "Muito alto", 10, IF(D8 = "Alto", 8, IF(D8 = "Médio", 5, IF(D8 = "Baixo", 2, IF(D8 = "Muito baixo", 1,0))))) -> 0 | F8: =C8*E8 -> 0 | G8: =IF(F8=0,"",IF(F8<10, "Risco Baixo", IF(F8<40, "Risco Médio", IF(F8<80, "Risco Alto", "Risco Extremo")))) | K8: =IF(J8 = "Inexistente", 1, IF(J8 = "Fraco", 0.8, IF(J8 = "Mediano", 0.6, IF(J8 = "Satisfatório", 0.4, IF(J8 = "Forte", 0.2,0))))) -> 0 | L8: =K8*F8 -> 0 | M8: =IF(L8=0,"",IF(L8<10, "Risco Baixo", IF(L8<40, "Risco Médio", IF(L8<80, "Risco Alto", "Risco Extremo"))))
A9: ='ETAPA 2. IDENTIFICAÇÃO DE EVENT'!C9 | C9: =IF(B9 = "Muito alta", 10, IF(B9 = "Alta", 8, IF(B9 = "Média", 5, IF(B9 = "Baixa", 2, IF(B9 = "Muito baixa", 1,0))))) -> 0 | E9: =IF(D9 = "Muito alto", 10, IF(D9 = "Alto", 8, IF(D9 = "Médio", 5, IF(D9 = "Baixo", 2, IF(D9 = "Muito baixo", 1,0))))) -> 0 | F9: =C9*E9 -> 0 | G9: =IF(F9=0,"",IF(F9<10, "Risco Baixo", IF(F9<40, "Risco Médio", IF(F9<80, "Risco Alto", "Risco Extremo")))) | K9: =IF(J9 = "Inexistente", 1, IF(J9 = "Fraco", 0.8, IF(J9 = "Mediano", 0.6, IF(J9 = "Satisfatório", 0.4, IF(J9 = "Forte", 0.2,0))))) -> 0 | L9: =K9*F9 -> 0 | M9: =IF(L9=0,"",IF(L9<10, "Risco Baixo", IF(L9<40, "Risco Médio", IF(L9<80, "Risco Alto", "Risco Extremo"))))
A10: ='ETAPA 2. IDENTIFICAÇÃO DE EVENT'!C10 | C10: =IF(B10 = "Muito alta", 10, IF(B10 = "Alta", 8, IF(B10 = "Média", 5, IF(B10 = "Baixa", 2, IF(B10 = "Muito baixa", 1,0))))) -> 0 | E10: =IF(D10 = "Muito alto", 10, IF(D10 = "Alto", 8, IF(D10 = "Médio", 5, IF(D10 = "Baixo", 2, IF(D10 = "Muito baixo", 1,0))))) -> 0 | F10: =C10*E10 -> 0 | G10: =IF(F10=0,"",IF(F10<10, "Risco Baixo", IF(F10<40, "Risco Médio", IF(F10<80, "Risco Alto", "Risco Extremo")))) | K10: =IF(J10 = "Inexistente", 1, IF(J10 = "Fraco", 0.8, IF(J10 = "Mediano", 0.6, IF(J10 = "Satisfatório", 0.4, IF(J10 = "Forte", 0.2,0))))) -> 0 | L10: =K10*F10 -> 0 | M10: =IF(L10=0,"",IF(L10<10, "Risco Baixo", IF(L10<40, "Risco Médio", IF(L10<80, "Risco Alto", "Risco Extremo"))))
A11: ='ETAPA 2. IDENTIFICAÇÃO DE EVENT'!C11 | C11: =IF(B11 = "Muito alta", 10, IF(B11 = "Alta", 8, IF(B11 = "Média", 5, IF(B11 = "Baixa", 2, IF(B11 = "Muito baixa", 1,0))))) -> 0 | E11: =IF(D11 = "Muito alto", 10, IF(D11 = "Alto", 8, IF(D11 = "Médio", 5, IF(D11 = "Baixo", 2, IF(D11 = "Muito baixo", 1,0))))) -> 0 | F11: =C11*E11 -> 0 | G11: =IF(F11=0,"",IF(F11<10, "Risco Baixo", IF(F11<40, "Risco Médio", IF(F11<80, "Risco Alto", "Risco Extremo")))) | K11: =IF(J11 = "Inexistente", 1, IF(J11 = "Fraco", 0.8, IF(J11 = "Mediano", 0.6, IF(J11 = "Satisfatório", 0.4, IF(J11 = "Forte", 0.2,0))))) -> 0 | L11: =K11*F11 -> 0 | M11: =IF(L11=0,"",IF(L11<10, "Risco Baixo", IF(L11<40, "Risco Médio", IF(L11<80, "Risco Alto", "Risco Extremo"))))
A12: ='ETAPA 2. IDENTIFICAÇÃO DE EVENT'!C12 | C12: =IF(B12 = "Muito alta", 10, IF(B12 = "Alta", 8, IF(B12 = "Média", 5, IF(B12 = "Baixa", 2, IF(B12 = "Muito baixa", 1,0))))) -> 0 | E12: =IF(D12 = "Muito alto", 10, IF(D12 = "Alto", 8, IF(D12 = "Médio", 5, IF(D12 = "Baixo", 2, IF(D12 = "Muito baixo", 1,0))))) -> 0 | F12: =C12*E12 -> 0 | G12: =IF(F12=0,"",IF(F12<10, "Risco Baixo", IF(F12<40, "Risco Médio", IF(F12<80, "Risco Alto", "Risco Extremo")))) | K12: =IF(J12 = "Inexistente", 1, IF(J12 = "Fraco", 0.8, IF(J12 = "Mediano", 0.6, IF(J12 = "Satisfatório", 0.4, IF(J12 = "Forte", 0.2,0))))) -> 0 | L12: =K12*F12 -> 0 | M12: =IF(L12=0,"",IF(L12<10, "Risco Baixo", IF(L12<40, "Risco Médio", IF(L12<80, "Risco Alto", "Risco Extremo"))))
A13: ='ETAPA 2. IDENTIFICAÇÃO DE EVENT'!C13 | C13: =IF(B13 = "Muito alta", 10, IF(B13 = "Alta", 8, IF(B13 = "Média", 5, IF(B13 = "Baixa", 2, IF(B13 = "Muito baixa", 1,0))))) -> 0 | E13: =IF(D13 = "Muito alto", 10, IF(D13 = "Alto", 8, IF(D13 = "Médio", 5, IF(D13 = "Baixo", 2, IF(D13 = "Muito baixo", 1,0))))) -> 0 | F13: =C13*E13 -> 0 | G13: =IF(F13=0,"",IF(F13<10, "Risco Baixo", IF(F13<40, "Risco Médio", IF(F13<80, "Risco Alto", "Risco Extremo")))) | K13: =IF(J13 = "Inexistente", 1, IF(J13 = "Fraco", 0.8, IF(J13 = "Mediano", 0.6, IF(J13 = "Satisfatório", 0.4, IF(J13 = "Forte", 0.2,0))))) -> 0 | L13: =K13*F13 -> 0 | M13: =IF(L13=0,"",IF(L13<10, "Risco Baixo", IF(L13<40, "Risco Médio", IF(L13<80, "Risco Alto", "Risco Extremo"))))
A14: ='ETAPA 2. IDENTIFICAÇÃO DE EVENT'!C14 | C14: =IF(B14 = "Muito alta", 10, IF(B14 = "Alta", 8, IF(B14 = "Média", 5, IF(B14 = "Baixa", 2, IF(B14 = "Muito baixa", 1,0))))) -> 0 | E14: =IF(D14 = "Muito alto", 10, IF(D14 = "Alto", 8, IF(D14 = "Médio", 5, IF(D14 = "Baixo", 2, IF(D14 = "Muito baixo", 1,0))))) -> 0 | F14: =C14*E14 -> 0 | G14: =IF(F14=0,"",IF(F14<10, "Risco Baixo", IF(F14<40, "Risco Médio", IF(F14<80, "Risco Alto", "Risco Extremo")))) | K14: =IF(J14 = "Inexistente", 1, IF(J14 = "Fraco", 0.8, IF(J14 = "Mediano", 0.6, IF(J14 = "Satisfatório", 0.4, IF(J14 = "Forte", 0.2,0))))) -> 0 | L14: =K14*F14 -> 0 | M14: =IF(L14=0,"",IF(L14<10, "Risco Baixo", IF(L14<40, "Risco Médio", IF(L14<80, "Risco Alto", "Risco Extremo"))))
A15: ='ETAPA 2. IDENTIFICAÇÃO DE EVENT'!C15 | C15: =IF(B15 = "Muito alta", 10, IF(B15 = "Alta", 8, IF(B15 = "Média", 5, IF(B15 = "Baixa", 2, IF(B15 = "Muito baixa", 1,0))))) -> 0 | E15: =IF(D15 = "Muito alto", 10, IF(D15 = "Alto", 8, IF(D15 = "Médio", 5, IF(D15 = "Baixo", 2, IF(D15 = "Muito baixo", 1,0))))) -> 0 | F15: =C15*E15 -> 0 | K15: =IF(J15 = "Inexistente", 1, IF(J15 = "Fraco", 0.8, IF(J15 = "Mediano", 0.6, IF(J15 = "Satisfatório", 0.4, IF(J15 = "Forte", 0.2,0))))) -> 0 | L15: =K15*F15 -> 0 | M15: =IF(L15=0,"",IF(L15<10, "Risco Baixo", IF(L15<40, "Risco Médio", IF(L15<80, "Risco Alto", "Risco Extremo"))))
A16: ='ETAPA 2. IDENTIFICAÇÃO DE EVENT'!C16 | C16: =IF(B16 = "Muito alta", 10, IF(B16 = "Alta", 8, IF(B16 = "Média", 5, IF(B16 = "Baixa", 2, IF(B16 = "Muito baixa", 1,0))))) -> 0 | E16: =IF(D16 = "Muito alto", 10, IF(D16 = "Alto", 8, IF(D16 = "Médio", 5, IF(D16 = "Baixo", 2, IF(D16 = "Muito baixo", 1,0))))) -> 0 | F16: =C16*E16 -> 0 | G16: =IF(F16=0,"",IF(F16<10, "Risco Baixo", IF(F16<40, "Risco Médio", IF(F16<80, "Risco Alto", "Risco Extremo")))) | K16: =IF(J16 = "Inexistente", 1, IF(J16 = "Fraco", 0.8, IF(J16 = "Mediano", 0.6, IF(J16 = "Satisfatório", 0.4, IF(J16 = "Forte", 0.2,0))))) -> 0 | L16: =K16*F16 -> 0 | M16: =IF(L16=0,"",IF(L16<10, "Risco Baixo", IF(L16<40, "Risco Médio", IF(L16<80, "Risco Alto", "Risco Extremo"))))
A17: ='ETAPA 2. IDENTIFICAÇÃO DE EVENT'!C17 | C17: =IF(B17 = "Muito alta", 10, IF(B17 = "Alta", 8, IF(B17 = "Média", 5, IF(B17 = "Baixa", 2, IF(B17 = "Muito baixa", 1,0))))) -> 0 | E17: =IF(D17 = "Muito alto", 10, IF(D17 = "Alto", 8, IF(D17 = "Médio", 5, IF(D17 = "Baixo", 2, IF(D17 = "Muito baixo", 1,0))))) -> 0 | F17: =C17*E17 -> 0 | G17: =IF(F17=0,"",IF(F17<10, "Risco Baixo", IF(F17<40, "Risco Médio", IF(F17<80, "Risco Alto", "Risco Extremo")))) | K17: =IF(J17 = "Inexistente", 1, IF(J17 = "Fraco", 0.8, IF(J17 = "Mediano", 0.6, IF(J17 = "Satisfatório", 0.4, IF(J17 = "Forte", 0.2,0))))) -> 0 | L17: =K17*F17 -> 0 | M17: =IF(L17=0,"",IF(L17<10, "Risco Baixo", IF(L17<40, "Risco Médio", IF(L17<80, "Risco Alto", "Risco Extremo"))))
A18: ='ETAPA 2. IDENTIFICAÇÃO DE EVENT'!C18 | C18: =IF(B18 = "Muito alta", 10, IF(B18 = "Alta", 8, IF(B18 = "Média", 5, IF(B18 = "Baixa", 2, IF(B18 = "Muito baixa", 1,0))))) -> 0 | E18: =IF(D18 = "Muito alto", 10, IF(D18 = "Alto", 8, IF(D18 = "Médio", 5, IF(D18 = "Baixo", 2, IF(D18 = "Muito baixo", 1,0))))) -> 0 | F18: =C18*E18 -> 0 | G18: =IF(F18=0,"",IF(F18<10, "Risco Baixo", IF(F18<40, "Risco Médio", IF(F18<80, "Risco Alto", "Risco Extremo")))) | K18: =IF(J18 = "Inexistente", 1, IF(J18 = "Fraco", 0.8, IF(J18 = "Mediano", 0.6, IF(J18 = "Satisfatório", 0.4, IF(J18 = "Forte", 0.2,0))))) -> 0 | L18: =K18*F18 -> 0 | M18: =IF(L18=0,"",IF(L18<10, "Risco Baixo", IF(L18<40, "Risco Médio", IF(L18<80, "Risco Alto", "Risco Extremo"))))
A19: ='ETAPA 2. IDENTIFICAÇÃO DE EVENT'!C19 | C19: =IF(B19 = "Muito alta", 10, IF(B19 = "Alta", 8, IF(B19 = "Média", 5, IF(B19 = "Baixa", 2, IF(B19 = "Muito baixa", 1,0))))) -> 0 | E19: =IF(D19 = "Muito alto", 10, IF(D19 = "Alto", 8, IF(D19 = "Médio", 5, IF(D19 = "Baixo", 2, IF(D19 = "Muito baixo", 1,0))))) -> 0 | F19: =C19*E19 -> 0 | G19: =IF(F19=0,"",IF(F19<10, "Risco Baixo", IF(F19<40, "Risco Médio", IF(F19<80, "Risco Alto", "Risco Extremo")))) | K19: =IF(J19 = "Inexistente", 1, IF(J19 = "Fraco", 0.8, IF(J19 = "Mediano", 0.6, IF(J19 = "Satisfatório", 0.4, IF(J19 = "Forte", 0.2,0))))) -> 0 | L19: =K19*F19 -> 0 | M19: =IF(L19=0,"",IF(L19<10, "Risco Baixo", IF(L19<40, "Risco Médio", IF(L19<80, "Risco Alto", "Risco Extremo"))))
A20: ='ETAPA 2. IDENTIFICAÇÃO DE EVENT'!C20 | C20: =IF(B20 = "Muito alta", 10, IF(B20 = "Alta", 8, IF(B20 = "Média", 5, IF(B20 = "Baixa", 2, IF(B20 = "Muito baixa", 1,0))))) -> 0 | E20: =IF(D20 = "Muito alto", 10, IF(D20 = "Alto", 8, IF(D20 = "Médio", 5, IF(D20 = "Baixo", 2, IF(D20 = "Muito baixo", 1,0))))) -> 0 | F20: =C20*E20 -> 0 | G20: =IF(F20=0,"",IF(F20<10, "Risco Baixo", IF(F20<40, "Risco Médio", IF(F20<80, "Risco Alto", "Risco Extremo")))) | K20: =IF(J20 = "Inexistente", 1, IF(J20 = "Fraco", 0.8, IF(J20 = "Mediano", 0.6, IF(J20 = "Satisfatório", 0.4, IF(J20 = "Forte", 0.2,0))))) -> 0 | L20: =K20*F20 -> 0 | M20: =IF(L20=0,"",IF(L20<10, "Risco Baixo", IF(L20<40, "Risco Médio", IF(L20<80, "Risco Alto", "Risco Extremo"))))
A21: ='ETAPA 2. IDENTIFICAÇÃO DE EVENT'!C21 | C21: =IF(B21 = "Muito alta", 10, IF(B21 = "Alta", 8, IF(B21 = "Média", 5, IF(B21 = "Baixa", 2, IF(B21 = "Muito baixa", 1,0))))) -> 0 | E21: =IF(D21 = "Muito alto", 10, IF(D21 = "Alto", 8, IF(D21 = "Médio", 5, IF(D21 = "Baixo", 2, IF(D21 = "Muito baixo", 1,0))))) -> 0 | F21: =C21*E21 -> 0 | G21: =IF(F21=0,"",IF(F21<10, "Risco Baixo", IF(F21<40, "Risco Médio", IF(F21<80, "Risco Alto", "Risco Extremo")))) | K21: =IF(J21 = "Inexistente", 1, IF(J21 = "Fraco", 0.8, IF(J21 = "Mediano", 0.6, IF(J21 = "Satisfatório", 0.4, IF(J21 = "Forte", 0.2,0))))) -> 0 | L21: =K21*F21 -> 0 | M21: =IF(L21=0,"",IF(L21<10, "Risco Baixo", IF(L21<40, "Risco Médio", IF(L21<80, "Risco Alto", "Risco Extremo"))))
A22: ='ETAPA 2. IDENTIFICAÇÃO DE EVENT'!C22 | C22: =IF(B22 = "Muito alta", 10, IF(B22 = "Alta", 8, IF(B22 = "Média", 5, IF(B22 = "Baixa", 2, IF(B22 = "Muito baixa", 1,0))))) -> 0 | E22: =IF(D22 = "Muito alto", 10, IF(D22 = "Alto", 8, IF(D22 = "Médio", 5, IF(D22 = "Baixo", 2, IF(D22 = "Muito baixo", 1,0))))) -> 0 | F22: =C22*E22 -> 0 | G22: =IF(F22=0,"",IF(F22<10, "Risco Baixo", IF(F22<40, "Risco Médio", IF(F22<80, "Risco Alto", "Risco Extremo")))) | K22: =IF(J22 = "Inexistente", 1, IF(J22 = "Fraco", 0.8, IF(J22 = "Mediano", 0.6, IF(J22 = "Satisfatório", 0.4, IF(J22 = "Forte", 0.2,0))))) -> 0 | L22: =K22*F22 -> 0 | M22: =IF(L22=0,"",IF(L22<10, "Risco Baixo", IF(L22<40, "Risco Médio", IF(L22<80, "Risco Alto", "Risco Extremo"))))
A23: ='ETAPA 2. IDENTIFICAÇÃO DE EVENT'!C23 | C23: =IF(B23 = "Muito alta", 10, IF(B23 = "Alta", 8, IF(B23 = "Média", 5, IF(B23 = "Baixa", 2, IF(B23 = "Muito baixa", 1,0))))) -> 0 | E23: =IF(D23 = "Muito alto", 10, IF(D23 = "Alto", 8, IF(D23 = "Médio", 5, IF(D23 = "Baixo", 2, IF(D23 = "Muito baixo", 1,0))))) -> 0 | F23: =C23*E23 -> 0 | G23: =IF(F23=0,"",IF(F23<10, "Risco Baixo", IF(F23<40, "Risco Médio", IF(F23<80, "Risco Alto", "Risco Extremo")))) | K23: =IF(J23 = "Inexistente", 1, IF(J23 = "Fraco", 0.8, IF(J23 = "Mediano", 0.6, IF(J23 = "Satisfatório", 0.4, IF(J23 = "Forte", 0.2,0))))) -> 0 | L23: =K23*F23 -> 0 | M23: =IF(L23=0,"",IF(L23<10, "Risco Baixo", IF(L23<40, "Risco Médio", IF(L23<80, "Risco Alto", "Risco Extremo"))))
A24: ='ETAPA 2. IDENTIFICAÇÃO DE EVENT'!C24 | C24: =IF(B24 = "Muito alta", 10, IF(B24 = "Alta", 8, IF(B24 = "Média", 5, IF(B24 = "Baixa", 2, IF(B24 = "Muito baixa", 1,0))))) -> 0 | E24: =IF(D24 = "Muito alto", 10, IF(D24 = "Alto", 8, IF(D24 = "Médio", 5, IF(D24 = "Baixo", 2, IF(D24 = "Muito baixo", 1,0))))) -> 0 | F24: =C24*E24 -> 0 | G24: =IF(F24=0,"",IF(F24<10, "Risco Baixo", IF(F24<40, "Risco Médio", IF(F24<80, "Risco Alto", "Risco Extremo")))) | K24: =IF(J24 = "Inexistente", 1, IF(J24 = "Fraco", 0.8, IF(J24 = "Mediano", 0.6, IF(J24 = "Satisfatório", 0.4, IF(J24 = "Forte", 0.2,0))))) -> 0 | L24: =K24*F24 -> 0 | M24: =IF(L24=0,"",IF(L24<10, "Risco Baixo", IF(L24<40, "Risco Médio", IF(L24<80, "Risco Alto", "Risco Extremo"))))
A25: ='ETAPA 2. IDENTIFICAÇÃO DE EVENT'!C25 | C25: =IF(B25 = "Muito alta", 10, IF(B25 = "Alta", 8, IF(B25 = "Média", 5, IF(B25 = "Baixa", 2, IF(B25 = "Muito baixa", 1,0))))) -> 0 | E25: =IF(D25 = "Muito alto", 10, IF(D25 = "Alto", 8, IF(D25 = "Médio", 5, IF(D25 = "Baixo", 2, IF(D25 = "Muito baixo", 1,0))))) -> 0 | F25: =C25*E25 -> 0 | G25: =IF(F25=0,"",IF(F25<10, "Risco Baixo", IF(F25<40, "Risco Médio", IF(F25<80, "Risco Alto", "Risco Extremo")))) | K25: =IF(J25 = "Inexistente", 1, IF(J25 = "Fraco", 0.8, IF(J25 = "Mediano", 0.6, IF(J25 = "Satisfatório", 0.4, IF(J25 = "Forte", 0.2,0))))) -> 0 | L25: =K25*F25 -> 0 | M25: =IF(L25=0,"",IF(L25<10, "Risco Baixo", IF(L25<40, "Risco Médio", IF(L25<80, "Risco Alto", "Risco Extremo"))))
A26: ='ETAPA 2. IDENTIFICAÇÃO DE EVENT'!C26 | C26: =IF(B26 = "Muito alta", 10, IF(B26 = "Alta", 8, IF(B26 = "Média", 5, IF(B26 = "Baixa", 2, IF(B26 = "Muito baixa", 1,0))))) -> 0 | E26: =IF(D26 = "Muito alto", 10, IF(D26 = "Alto", 8, IF(D26 = "Médio", 5, IF(D26 = "Baixo", 2, IF(D26 = "Muito baixo", 1,0))))) -> 0 | F26: =C26*E26 -> 0 | G26: =IF(F26=0,"",IF(F26<10, "Risco Baixo", IF(F26<40, "Risco Médio", IF(F26<80, "Risco Alto", "Risco Extremo")))) | K26: =IF(J26 = "Inexistente", 1, IF(J26 = "Fraco", 0.8, IF(J26 = "Mediano", 0.6, IF(J26 = "Satisfatório", 0.4, IF(J26 = "Forte", 0.2,0))))) -> 0 | L26: =K26*F26 -> 0 | M26: =IF(L26=0,"",IF(L26<10, "Risco Baixo", IF(L26<40, "Risco Médio", IF(L26<80, "Risco Alto", "Risco Extremo"))))
A27: ='ETAPA 2. IDENTIFICAÇÃO DE EVENT'!C27 | C27: =IF(B27 = "Muito alta", 10, IF(B27 = "Alta", 8, IF(B27 = "Média", 5, IF(B27 = "Baixa", 2, IF(B27 = "Muito baixa", 1,0))))) -> 0 | E27: =IF(D27 = "Muito alto", 10, IF(D27 = "Alto", 8, IF(D27 = "Médio", 5, IF(D27 = "Baixo", 2, IF(D27 = "Muito baixo", 1,0))))) -> 0 | F27: =C27*E27 -> 0 | G27: =IF(F27=0,"",IF(F27<10, "Risco Baixo", IF(F27<40, "Risco Médio", IF(F27<80, "Risco Alto", "Risco Extremo")))) | K27: =IF(J27 = "Inexistente", 1, IF(J27 = "Fraco", 0.8, IF(J27 = "Mediano", 0.6, IF(J27 = "Satisfatório", 0.4, IF(J27 = "Forte", 0.2,0))))) -> 0 | L27: =K27*F27 -> 0 | M27: =IF(L27=0,"",IF(L27<10, "Risco Baixo", IF(L27<40, "Risco Médio", IF(L27<80, "Risco Alto", "Risco Extremo"))))
... A31: ='ETAPA 2. IDENTIFICAÇÃO DE EVENT'!C31 | C31: =IF(B31 = "Muito alta", 10, IF(B31 = "Alta", 8, IF(B31 = "Média", 5, IF(B31 = "Baixa", 2, IF(B31 = "Muito baixa", 1,0))))) -> 0 | E31: =IF(D31 = "Muito alto", 10, IF(D31 = "Alto", 8, IF(D31 = "Médio", 5, IF(D31 = "Baixo", 2, IF(D31 = "Muito baixo", 1,0))))) -> 0 | F31: =C31*E31 -> 0 | G31: =IF(F31=0,"",IF(F31<10, "Risco Baixo", IF(F31<40, "Risco Médio", IF(F31<80, "Risco Alto", "Risco Extremo")))) | K31: =IF(J31 = "Inexistente", 1, IF(J31 = "Fraco", 0.8, IF(J31 = "Mediano", 0.6, IF(J31 = "Satisfatório", 0.4, IF(J31 = "Forte", 0.2,0))))) -> 0 | L31: =K31*F31 -> 0 | M31: =IF(L31=0,"",IF(L31<10, "Risco Baixo", IF(L31<40, "Risco Médio", IF(L31<80, "Risco Alto", "Risco Extremo"))))

Sheet ETAPA 4. RESPOSTA AOS RISCOS
A1: Resposta aos Riscos
A2: Processo | B2: Fase | C2: Evento de Risco | D2: Opção de Tratamento | E2: Justificativa da escolha da opção de tratamento
A3: ='ETAPA 2. IDENTIFICAÇÃO DE EVENT'!A3 -> Horário especial para servidor estudante | B3: Inicial | C3: ='ETAPA 2. IDENTIFICAÇÃO DE EVENT'!C3 -> Concessão de horário especial em desacordo com os requisitos legais e normativos aplicáveis. | D3: Aceitar
A4: ='ETAPA 2. IDENTIFICAÇÃO DE EVENT'!A4 -> Horário especial para servidor estudante | B4: Inicial | C4: ='ETAPA 2. IDENTIFICAÇÃO DE EVENT'!C4 -> Tramitação do processo de concessão de horário especial fora do prazo necessário à análise e decisão. | D4: Aceitar
A5: ='ETAPA 2. IDENTIFICAÇÃO DE EVENT'!A5 -> Horário especial para servidor estudante | B5: Intermediária | C5: ='ETAPA 2. IDENTIFICAÇÃO DE EVENT'!C5 -> Atraso na análise e emissão de parecer necessário à decisão do processo. | D5: Aceitar
A6: ='ETAPA 2. IDENTIFICAÇÃO DE EVENT'!A6 -> Horário especial para servidor estudante | B6: Intermediária | C6: ='ETAPA 2. IDENTIFICAÇÃO DE EVENT'!C6 -> Não apreciação do processo pelo Conselho do Campus no prazo necessário à concessão do horário especial. | D6: Aceitar
A7: ='ETAPA 2. IDENTIFICAÇÃO DE EVENT'!A7 -> Horário especial para servidor estudante | B7: ='ETAPA 2. IDENTIFICAÇÃO DE EVENT'!B7 | C7: ='ETAPA 2. IDENTIFICAÇÃO DE EVENT'!C7
A8: ='ETAPA 2. IDENTIFICAÇÃO DE EVENT'!A8 -> Horário especial para servidor estudante | B8: ='ETAPA 2. IDENTIFICAÇÃO DE EVENT'!B8 | C8: ='ETAPA 2. IDENTIFICAÇÃO DE EVENT'!C8
A9: ='ETAPA 2. IDENTIFICAÇÃO DE EVENT'!A9 -> Horário especial para servidor estudante | B9: ='ETAPA 2. IDENTIFICAÇÃO DE EVENT'!B9 | C9: ='ETAPA 2. IDENTIFICAÇÃO DE EVENT'!C9
A10: ='ETAPA 2. IDENTIFICAÇÃO DE EVENT'!A10 -> Horário especial para servidor estudante | B10: ='ETAPA 2. IDENTIFICAÇÃO DE EVENT'!B10 | C10: ='ETAPA 2. IDENTIFICAÇÃO DE EVENT'!C10
A11: ='ETAPA 2. IDENTIFICAÇÃO DE EVENT'!A11 -> Horário especial para servidor estudante | B11: ='ETAPA 2. IDENTIFICAÇÃO DE EVENT'!B11 | C11: ='ETAPA 2. IDENTIFICAÇÃO DE EVENT'!C11
A12: ='ETAPA 2. IDENTIFICAÇÃO DE EVENT'!A12 -> Horário especial para servidor estudante | B12: ='ETAPA 2. IDENTIFICAÇÃO DE EVENT'!B12 | C12: ='ETAPA 2. IDENTIFICAÇÃO DE EVENT'!C12
A13: ='ETAPA 2. IDENTIFICAÇÃO DE EVENT'!A13 -> Horário especial para servidor estudante | B13: ='ETAPA 2. IDENTIFICAÇÃO DE EVENT'!B13 | C13: ='ETAPA 2. IDENTIFICAÇÃO DE EVENT'!C13
A14: ='ETAPA 2. IDENTIFICAÇÃO DE EVENT'!A14 -> Horário especial para servidor estudante | B14: ='ETAPA 2. IDENTIFICAÇÃO DE EVENT'!B14 | C14: ='ETAPA 2. IDENTIFICAÇÃO DE EVENT'!C14
A15: ='ETAPA 2. IDENTIFICAÇÃO DE EVENT'!A15 -> Horário especial para servidor estudante | B15: ='ETAPA 2. IDENTIFICAÇÃO DE EVENT'!B15 | C15: ='ETAPA 2. IDENTIFICAÇÃO DE EVENT'!C15
A16: ='ETAPA 2. IDENTIFICAÇÃO DE EVENT'!A16 -> Horário especial para servidor estudante | B16: ='ETAPA 2. IDENTIFICAÇÃO DE EVENT'!B16 | C16: ='ETAPA 2. IDENTIFICAÇÃO DE EVENT'!C16
A17: ='ETAPA 2. IDENTIFICAÇÃO DE EVENT'!A17 -> Horário especial para servidor estudante | B17: ='ETAPA 2. IDENTIFICAÇÃO DE EVENT'!B17 | C17: ='ETAPA 2. IDENTIFICAÇÃO DE EVENT'!C17
A18: ='ETAPA 2. IDENTIFICAÇÃO DE EVENT'!A18 -> Horário especial para servidor estudante | B18: ='ETAPA 2. IDENTIFICAÇÃO DE EVENT'!B18 | C18: ='ETAPA 2. IDENTIFICAÇÃO DE EVENT'!C18
... A85: ='ETAPA 2. IDENTIFICAÇÃO DE EVENT'!A85 | B85: ='ETAPA 2. IDENTIFICAÇÃO DE EVENT'!B85 | C85: ='ETAPA 2. IDENTIFICAÇÃO DE EVENT'!C85

Sheet ETAPA 5. ATIVIDADES DE CONTROLE
A1: Plano de Tratamento | I1: Plano de Contingência
A2: Evento de Risco | B2: Opção de Tratamento | C2: Responsável pelo Tratamento | D2: Data prevista para início da implementação | E2: Data prevista para o fim da implementação | F2: Status | G2: Ações preventivas | H2: Monitoramento | I2: Gatilho (descrever) | J2: Ações de Contingência (descrever) | K2: Responsável
A3: ='ETAPA 2. IDENTIFICAÇÃO DE EVENT'!C3 -> Concessão de horário especial em desacordo com os requisitos legais e normativos aplicáveis. | B3: ='ETAPA 4. RESPOSTA AOS RISCOS'!D3 -> Aceitar
A4: ='ETAPA 2. IDENTIFICAÇÃO DE EVENT'!C4 -> Tramitação do processo de concessão de horário especial fora do prazo necessário à análise e decisão. | B4: ='ETAPA 4. RESPOSTA AOS RISCOS'!D4 -> Aceitar
A5: ='ETAPA 2. IDENTIFICAÇÃO DE EVENT'!C5 -> Atraso na análise e emissão de parecer necessário à decisão do processo. | B5: ='ETAPA 4. RESPOSTA AOS RISCOS'!D5 -> Aceitar
A6: ='ETAPA 2. IDENTIFICAÇÃO DE EVENT'!C6 -> Não apreciação do processo pelo Conselho do Campus no prazo necessário à concessão do horário especial. | B6: ='ETAPA 4. RESPOSTA AOS RISCOS'!D6 -> Aceitar
A7: ='ETAPA 2. IDENTIFICAÇÃO DE EVENT'!C7 | B7: ='ETAPA 4. RESPOSTA AOS RISCOS'!D7
A8: ='ETAPA 2. IDENTIFICAÇÃO DE EVENT'!C8 | B8: ='ETAPA 4. RESPOSTA AOS RISCOS'!D8
A9: ='ETAPA 2. IDENTIFICAÇÃO DE EVENT'!C9 | B9: ='ETAPA 4. RESPOSTA AOS RISCOS'!D9
A10: ='ETAPA 2. IDENTIFICAÇÃO DE EVENT'!C10 | B10: ='ETAPA 4. RESPOSTA AOS RISCOS'!D10
A11: ='ETAPA 2. IDENTIFICAÇÃO DE EVENT'!C11 | B11: ='ETAPA 4. RESPOSTA AOS RISCOS'!D11
A12: ='ETAPA 2. IDENTIFICAÇÃO DE EVENT'!C12 | B12: ='ETAPA 4. RESPOSTA AOS RISCOS'!D12
A13: ='ETAPA 2. IDENTIFICAÇÃO DE EVENT'!C13 | B13: ='ETAPA 4. RESPOSTA AOS RISCOS'!D13
A14: ='ETAPA 2. IDENTIFICAÇÃO DE EVENT'!C14 | B14: ='ETAPA 4. RESPOSTA AOS RISCOS'!D14
... A60: ='ETAPA 2. IDENTIFICAÇÃO DE EVENT'!C60 | B60: ='ETAPA 4. RESPOSTA AOS RISCOS'!D60

Sheet OCORRÊNCIAS DE RISCO
A1: Ocorrências de Risco
A2: Evento de Risco | B2: Data da Ocorrência | C2: Descrição da Ocorrência (descrever) | D2: Responsável pela Solução | E2: Solução (descrever) | F2: Resultados (descrever)
